BEGIN:VCALENDAR
VERSION:2.0
PRODID:-//Oakbrook Golf Club - ECPv6.15.20//NONSGML v1.0//EN
CALSCALE:GREGORIAN
METHOD:PUBLISH
X-WR-CALNAME:Oakbrook Golf Club
X-ORIGINAL-URL:https://oakbrookgolfclub.com
X-WR-CALDESC:Events for Oakbrook Golf Club
REFRESH-INTERVAL;VALUE=DURATION:PT1H
X-Robots-Tag:noindex
X-PUBLISHED-TTL:PT1H
BEGIN:VTIMEZONE
TZID:UTC
BEGIN:STANDARD
TZOFFSETFROM:+0000
TZOFFSETTO:+0000
TZNAME:UTC
DTSTART:20230101T000000
END:STANDARD
END:VTIMEZONE
BEGIN:VEVENT
DTSTART;TZID=UTC:20240610T100300
DTEND;TZID=UTC:20240610T100300
DTSTAMP:20260420T100530
CREATED:20240319T164512Z
LAST-MODIFIED:20240319T172405Z
UID:17434-1718013780-1718013780@oakbrookgolfclub.com
SUMMARY:Boeing X-Outs
DESCRIPTION:Tee Times – 44 people
URL:https://oakbrookgolfclub.com/event/boeing-x-outs/
CATEGORIES:Golf Tournament
END:VEVENT
BEGIN:VEVENT
DTSTART;TZID=UTC:20240615T083300
DTEND;TZID=UTC:20240615T083300
DTSTAMP:20260420T100530
CREATED:20240319T164606Z
LAST-MODIFIED:20240319T171324Z
UID:17436-1718440380-1718440380@oakbrookgolfclub.com
SUMMARY:Men's Club Team Championship
DESCRIPTION:Tee Times – 72 people
URL:https://oakbrookgolfclub.com/event/mens-club-team-championship/
CATEGORIES:Golf Tournament
END:VEVENT
BEGIN:VEVENT
DTSTART;TZID=UTC:20240622T083300
DTEND;TZID=UTC:20240622T083300
DTSTAMP:20260420T100530
CREATED:20240319T164639Z
LAST-MODIFIED:20240319T171313Z
UID:17438-1719045180-1719045180@oakbrookgolfclub.com
SUMMARY:Men's Club Team Championship
DESCRIPTION:Tee Times – 72 people
URL:https://oakbrookgolfclub.com/event/mens-club-team-championship-2/
CATEGORIES:Golf Tournament
END:VEVENT
BEGIN:VEVENT
DTSTART;TZID=UTC:20240623T083300
DTEND;TZID=UTC:20240623T083300
DTSTAMP:20260420T100530
CREATED:20240319T164711Z
LAST-MODIFIED:20240319T171300Z
UID:17440-1719131580-1719131580@oakbrookgolfclub.com
SUMMARY:Men's Club Team Tournament
DESCRIPTION:Tee Times – 72 people
URL:https://oakbrookgolfclub.com/event/mens-club-team-tournament/
CATEGORIES:Golf Tournament
END:VEVENT
BEGIN:VEVENT
DTSTART;TZID=UTC:20240627T070000
DTEND;TZID=UTC:20240627T070000
DTSTAMP:20260420T100530
CREATED:20240319T164748Z
LAST-MODIFIED:20240319T171250Z
UID:17442-1719471600-1719471600@oakbrookgolfclub.com
SUMMARY:PSLOW
DESCRIPTION:Tee Times – 144 people
URL:https://oakbrookgolfclub.com/event/pslow/
CATEGORIES:Golf Tournament
END:VEVENT
END:VCALENDAR