BEGIN:VCALENDAR
VERSION:2.0
PRODID:-//Oakbrook Golf Club - ECPv6.15.20//NONSGML v1.0//EN
CALSCALE:GREGORIAN
METHOD:PUBLISH
X-WR-CALNAME:Oakbrook Golf Club
X-ORIGINAL-URL:https://oakbrookgolfclub.com
X-WR-CALDESC:Events for Oakbrook Golf Club
REFRESH-INTERVAL;VALUE=DURATION:PT1H
X-Robots-Tag:noindex
X-PUBLISHED-TTL:PT1H
BEGIN:VTIMEZONE
TZID:UTC
BEGIN:STANDARD
TZOFFSETFROM:+0000
TZOFFSETTO:+0000
TZNAME:UTC
DTSTART:20230101T000000
END:STANDARD
END:VTIMEZONE
BEGIN:VEVENT
DTSTART;TZID=UTC:20240505T070000
DTEND;TZID=UTC:20240505T070000
DTSTAMP:20260420T113324
CREATED:20240319T163934Z
LAST-MODIFIED:20240319T172543Z
UID:17418-1714892400-1714892400@oakbrookgolfclub.com
SUMMARY:WJGA Junior World Qualifier
DESCRIPTION:Tee Times – 240 people
URL:https://oakbrookgolfclub.com/event/wjga-junior-world-qualifier/
CATEGORIES:Golf Tournament
END:VEVENT
BEGIN:VEVENT
DTSTART;TZID=UTC:20240506T080000
DTEND;TZID=UTC:20240513T170000
DTSTAMP:20260420T113324
CREATED:20240506T165736Z
LAST-MODIFIED:20240506T165736Z
UID:17674-1714982400-1715619600@oakbrookgolfclub.com
SUMMARY:Mother's Day Sale
DESCRIPTION:Mother’s Day Sale\nMonday\, May 6 – Monday\, May 13\n\n \n\n25% Off\nWomen’s Apparel\nWomen’s Gloves\nAll Bags\n\n \n\nStop by any time this week at the Oakbrook Golf Club and pick up that perfect gift for MOM!
URL:https://oakbrookgolfclub.com/event/mothers-day-sale/
END:VEVENT
BEGIN:VEVENT
DTSTART;TZID=UTC:20240506T090000
DTEND;TZID=UTC:20240506T090000
DTSTAMP:20260420T113324
CREATED:20240319T164008Z
LAST-MODIFIED:20240319T172531Z
UID:17420-1714986000-1714986000@oakbrookgolfclub.com
SUMMARY:TWGA Ladies
DESCRIPTION:Tee Times – 90 people
URL:https://oakbrookgolfclub.com/event/twga-ladies/
CATEGORIES:Golf Tournament
END:VEVENT
BEGIN:VEVENT
DTSTART;TZID=UTC:20240511T070000
DTEND;TZID=UTC:20240511T070000
DTSTAMP:20260420T113324
CREATED:20240319T164038Z
LAST-MODIFIED:20240319T172519Z
UID:17422-1715410800-1715410800@oakbrookgolfclub.com
SUMMARY:Northwest Golf Guys
DESCRIPTION:Tee Times – 140 people
URL:https://oakbrookgolfclub.com/event/northwest-golf-guys/
CATEGORIES:Golf Tournament
END:VEVENT
BEGIN:VEVENT
DTSTART;TZID=UTC:20240516T070000
DTEND;TZID=UTC:20240516T070000
DTSTAMP:20260420T113324
CREATED:20240319T164124Z
LAST-MODIFIED:20240319T172507Z
UID:17424-1715842800-1715842800@oakbrookgolfclub.com
SUMMARY:USGA US Senior Open Qualifier
DESCRIPTION:Tee Times – 80 people
URL:https://oakbrookgolfclub.com/event/usga-us-senior-open-qualifier/
CATEGORIES:Golf Tournament
END:VEVENT
BEGIN:VEVENT
DTSTART;TZID=UTC:20240518T083300
DTEND;TZID=UTC:20240518T083300
DTSTAMP:20260420T113324
CREATED:20240319T164216Z
LAST-MODIFIED:20240319T172454Z
UID:17426-1716021180-1716021180@oakbrookgolfclub.com
SUMMARY:Men's Club Best Ball Invitational
DESCRIPTION:Tee Times – 72 people
URL:https://oakbrookgolfclub.com/event/mens-club-best-ball-invitational/
CATEGORIES:Golf Tournament
END:VEVENT
BEGIN:VEVENT
DTSTART;TZID=UTC:20240519T083300
DTEND;TZID=UTC:20240519T083300
DTSTAMP:20260420T113324
CREATED:20240319T164255Z
LAST-MODIFIED:20240319T172442Z
UID:17428-1716107580-1716107580@oakbrookgolfclub.com
SUMMARY:Men's Club Best Ball Invitational
DESCRIPTION:Tee Times – 72 people
URL:https://oakbrookgolfclub.com/event/mens-club-best-ball-invitational-2/
CATEGORIES:Golf Tournament
END:VEVENT
BEGIN:VEVENT
DTSTART;TZID=UTC:20240519T110600
DTEND;TZID=UTC:20240519T110600
DTSTAMP:20260420T113324
CREATED:20240319T164345Z
LAST-MODIFIED:20240319T172430Z
UID:17430-1716116760-1716116760@oakbrookgolfclub.com
SUMMARY:BLD Golf Tournament
DESCRIPTION:Tee Times – 28 people
URL:https://oakbrookgolfclub.com/event/bld-golf-tournament/
CATEGORIES:Golf Tournament
END:VEVENT
BEGIN:VEVENT
DTSTART;TZID=UTC:20240526T110600
DTEND;TZID=UTC:20240526T110600
DTSTAMP:20260420T113324
CREATED:20240319T164432Z
LAST-MODIFIED:20240319T172419Z
UID:17432-1716721560-1716721560@oakbrookgolfclub.com
SUMMARY:Northwest Golf Group
DESCRIPTION:Tee Times – 28 people
URL:https://oakbrookgolfclub.com/event/northwest-golf-group/
CATEGORIES:Golf Tournament
END:VEVENT
END:VCALENDAR