BEGIN:VCALENDAR
VERSION:2.0
PRODID:-//Oakbrook Golf Club - ECPv6.15.20//NONSGML v1.0//EN
CALSCALE:GREGORIAN
METHOD:PUBLISH
X-ORIGINAL-URL:https://oakbrookgolfclub.com
X-WR-CALDESC:Events for Oakbrook Golf Club
REFRESH-INTERVAL;VALUE=DURATION:PT1H
X-Robots-Tag:noindex
X-PUBLISHED-TTL:PT1H
BEGIN:VTIMEZONE
TZID:UTC
BEGIN:STANDARD
TZOFFSETFROM:+0000
TZOFFSETTO:+0000
TZNAME:UTC
DTSTART:20230101T000000
END:STANDARD
END:VTIMEZONE
BEGIN:VEVENT
DTSTART;TZID=UTC:20241019T083300
DTEND;TZID=UTC:20241019T083300
DTSTAMP:20260420T190502
CREATED:20240319T170019Z
LAST-MODIFIED:20240319T170937Z
UID:17474-1729326780-1729326780@oakbrookgolfclub.com
SUMMARY:Men's Club Tombstone
DESCRIPTION:Tee Times – 72 people
URL:https://oakbrookgolfclub.com/event/mens-club-tombstone/
CATEGORIES:Golf Tournament
END:VEVENT
BEGIN:VEVENT
DTSTART;TZID=UTC:20241109T083300
DTEND;TZID=UTC:20241109T083300
DTSTAMP:20260420T190502
CREATED:20240319T170050Z
LAST-MODIFIED:20240319T170922Z
UID:17476-1731141180-1731141180@oakbrookgolfclub.com
SUMMARY:Men's Club Dealers Choice
DESCRIPTION:Tee Times – 72 people
URL:https://oakbrookgolfclub.com/event/mens-club-dealers-choice/
CATEGORIES:Golf Tournament
END:VEVENT
BEGIN:VEVENT
DTSTART;TZID=UTC:20241113T173000
DTEND;TZID=UTC:20241113T210000
DTSTAMP:20260420T190502
CREATED:20241112T145537Z
LAST-MODIFIED:20241112T145537Z
UID:17980-1731519000-1731531600@oakbrookgolfclub.com
SUMMARY:Italian 4-Pillars Chef Dinner
DESCRIPTION:Italian 4-Pillars Chef Dinner\nWednesday\, November 13\, 2024\nDoors Open: 5:30pm\nDinner Begins: 6:00pm\nJoin us for a wonderful 5-course meal with wine pairings! Doors open at 5:30 PM\, with dinner service starting at 6:00 PM. Limited seating is available\, so be sure to reserve your spot for $200 per person (tax and gratuity included). \n  \nCall (253) 584-8888 to book your reservation today!\nDon’t miss out on this culinary experience! 🥂🍇
URL:https://oakbrookgolfclub.com/event/italian-4-pillars-chef-dinner/
END:VEVENT
END:VCALENDAR