BEGIN:VCALENDAR
VERSION:2.0
PRODID:-//Oakbrook Golf Club - ECPv6.15.20//NONSGML v1.0//EN
CALSCALE:GREGORIAN
METHOD:PUBLISH
X-ORIGINAL-URL:https://oakbrookgolfclub.com
X-WR-CALDESC:Events for Oakbrook Golf Club
REFRESH-INTERVAL;VALUE=DURATION:PT1H
X-Robots-Tag:noindex
X-PUBLISHED-TTL:PT1H
BEGIN:VTIMEZONE
TZID:UTC
BEGIN:STANDARD
TZOFFSETFROM:+0000
TZOFFSETTO:+0000
TZNAME:UTC
DTSTART:20230101T000000
END:STANDARD
END:VTIMEZONE
BEGIN:VEVENT
DTSTART;TZID=UTC:20240505T070000
DTEND;TZID=UTC:20240505T070000
DTSTAMP:20260420T233739
CREATED:20240319T163934Z
LAST-MODIFIED:20240319T172543Z
UID:17418-1714892400-1714892400@oakbrookgolfclub.com
SUMMARY:WJGA Junior World Qualifier
DESCRIPTION:Tee Times – 240 people
URL:https://oakbrookgolfclub.com/event/wjga-junior-world-qualifier/
CATEGORIES:Golf Tournament
END:VEVENT
BEGIN:VEVENT
DTSTART;TZID=UTC:20240506T080000
DTEND;TZID=UTC:20240513T170000
DTSTAMP:20260420T233739
CREATED:20240506T165736Z
LAST-MODIFIED:20240506T165736Z
UID:17674-1714982400-1715619600@oakbrookgolfclub.com
SUMMARY:Mother's Day Sale
DESCRIPTION:Mother’s Day Sale\nMonday\, May 6 – Monday\, May 13\n\n \n\n25% Off\nWomen’s Apparel\nWomen’s Gloves\nAll Bags\n\n \n\nStop by any time this week at the Oakbrook Golf Club and pick up that perfect gift for MOM!
URL:https://oakbrookgolfclub.com/event/mothers-day-sale/
END:VEVENT
BEGIN:VEVENT
DTSTART;TZID=UTC:20240506T090000
DTEND;TZID=UTC:20240506T090000
DTSTAMP:20260420T233739
CREATED:20240319T164008Z
LAST-MODIFIED:20240319T172531Z
UID:17420-1714986000-1714986000@oakbrookgolfclub.com
SUMMARY:TWGA Ladies
DESCRIPTION:Tee Times – 90 people
URL:https://oakbrookgolfclub.com/event/twga-ladies/
CATEGORIES:Golf Tournament
END:VEVENT
BEGIN:VEVENT
DTSTART;TZID=UTC:20240511T070000
DTEND;TZID=UTC:20240511T070000
DTSTAMP:20260420T233739
CREATED:20240319T164038Z
LAST-MODIFIED:20240319T172519Z
UID:17422-1715410800-1715410800@oakbrookgolfclub.com
SUMMARY:Northwest Golf Guys
DESCRIPTION:Tee Times – 140 people
URL:https://oakbrookgolfclub.com/event/northwest-golf-guys/
CATEGORIES:Golf Tournament
END:VEVENT
BEGIN:VEVENT
DTSTART;TZID=UTC:20240516T070000
DTEND;TZID=UTC:20240516T070000
DTSTAMP:20260420T233739
CREATED:20240319T164124Z
LAST-MODIFIED:20240319T172507Z
UID:17424-1715842800-1715842800@oakbrookgolfclub.com
SUMMARY:USGA US Senior Open Qualifier
DESCRIPTION:Tee Times – 80 people
URL:https://oakbrookgolfclub.com/event/usga-us-senior-open-qualifier/
CATEGORIES:Golf Tournament
END:VEVENT
BEGIN:VEVENT
DTSTART;TZID=UTC:20240518T083300
DTEND;TZID=UTC:20240518T083300
DTSTAMP:20260420T233739
CREATED:20240319T164216Z
LAST-MODIFIED:20240319T172454Z
UID:17426-1716021180-1716021180@oakbrookgolfclub.com
SUMMARY:Men's Club Best Ball Invitational
DESCRIPTION:Tee Times – 72 people
URL:https://oakbrookgolfclub.com/event/mens-club-best-ball-invitational/
CATEGORIES:Golf Tournament
END:VEVENT
BEGIN:VEVENT
DTSTART;TZID=UTC:20240519T083300
DTEND;TZID=UTC:20240519T083300
DTSTAMP:20260420T233739
CREATED:20240319T164255Z
LAST-MODIFIED:20240319T172442Z
UID:17428-1716107580-1716107580@oakbrookgolfclub.com
SUMMARY:Men's Club Best Ball Invitational
DESCRIPTION:Tee Times – 72 people
URL:https://oakbrookgolfclub.com/event/mens-club-best-ball-invitational-2/
CATEGORIES:Golf Tournament
END:VEVENT
BEGIN:VEVENT
DTSTART;TZID=UTC:20240519T110600
DTEND;TZID=UTC:20240519T110600
DTSTAMP:20260420T233739
CREATED:20240319T164345Z
LAST-MODIFIED:20240319T172430Z
UID:17430-1716116760-1716116760@oakbrookgolfclub.com
SUMMARY:BLD Golf Tournament
DESCRIPTION:Tee Times – 28 people
URL:https://oakbrookgolfclub.com/event/bld-golf-tournament/
CATEGORIES:Golf Tournament
END:VEVENT
BEGIN:VEVENT
DTSTART;TZID=UTC:20240526T110600
DTEND;TZID=UTC:20240526T110600
DTSTAMP:20260420T233739
CREATED:20240319T164432Z
LAST-MODIFIED:20240319T172419Z
UID:17432-1716721560-1716721560@oakbrookgolfclub.com
SUMMARY:Northwest Golf Group
DESCRIPTION:Tee Times – 28 people
URL:https://oakbrookgolfclub.com/event/northwest-golf-group/
CATEGORIES:Golf Tournament
END:VEVENT
BEGIN:VEVENT
DTSTART;TZID=UTC:20240610T100300
DTEND;TZID=UTC:20240610T100300
DTSTAMP:20260420T233739
CREATED:20240319T164512Z
LAST-MODIFIED:20240319T172405Z
UID:17434-1718013780-1718013780@oakbrookgolfclub.com
SUMMARY:Boeing X-Outs
DESCRIPTION:Tee Times – 44 people
URL:https://oakbrookgolfclub.com/event/boeing-x-outs/
CATEGORIES:Golf Tournament
END:VEVENT
BEGIN:VEVENT
DTSTART;TZID=UTC:20240615T083300
DTEND;TZID=UTC:20240615T083300
DTSTAMP:20260420T233739
CREATED:20240319T164606Z
LAST-MODIFIED:20240319T171324Z
UID:17436-1718440380-1718440380@oakbrookgolfclub.com
SUMMARY:Men's Club Team Championship
DESCRIPTION:Tee Times – 72 people
URL:https://oakbrookgolfclub.com/event/mens-club-team-championship/
CATEGORIES:Golf Tournament
END:VEVENT
BEGIN:VEVENT
DTSTART;TZID=UTC:20240622T083300
DTEND;TZID=UTC:20240622T083300
DTSTAMP:20260420T233739
CREATED:20240319T164639Z
LAST-MODIFIED:20240319T171313Z
UID:17438-1719045180-1719045180@oakbrookgolfclub.com
SUMMARY:Men's Club Team Championship
DESCRIPTION:Tee Times – 72 people
URL:https://oakbrookgolfclub.com/event/mens-club-team-championship-2/
CATEGORIES:Golf Tournament
END:VEVENT
BEGIN:VEVENT
DTSTART;TZID=UTC:20240623T083300
DTEND;TZID=UTC:20240623T083300
DTSTAMP:20260420T233739
CREATED:20240319T164711Z
LAST-MODIFIED:20240319T171300Z
UID:17440-1719131580-1719131580@oakbrookgolfclub.com
SUMMARY:Men's Club Team Tournament
DESCRIPTION:Tee Times – 72 people
URL:https://oakbrookgolfclub.com/event/mens-club-team-tournament/
CATEGORIES:Golf Tournament
END:VEVENT
BEGIN:VEVENT
DTSTART;TZID=UTC:20240627T070000
DTEND;TZID=UTC:20240627T070000
DTSTAMP:20260420T233739
CREATED:20240319T164748Z
LAST-MODIFIED:20240319T171250Z
UID:17442-1719471600-1719471600@oakbrookgolfclub.com
SUMMARY:PSLOW
DESCRIPTION:Tee Times – 144 people
URL:https://oakbrookgolfclub.com/event/pslow/
CATEGORIES:Golf Tournament
END:VEVENT
BEGIN:VEVENT
DTSTART;TZID=UTC:20240712T130000
DTEND;TZID=UTC:20240712T130000
DTSTAMP:20260420T233739
CREATED:20240319T164840Z
LAST-MODIFIED:20240319T171238Z
UID:17444-1720789200-1720789200@oakbrookgolfclub.com
SUMMARY:AWWA
DESCRIPTION:Shotgun – 144 people
URL:https://oakbrookgolfclub.com/event/awwa/
CATEGORIES:Golf Tournament
END:VEVENT
BEGIN:VEVENT
DTSTART;TZID=UTC:20240713T083300
DTEND;TZID=UTC:20240713T083300
DTSTAMP:20260420T233739
CREATED:20240319T164924Z
LAST-MODIFIED:20240319T171224Z
UID:17446-1720859580-1720859580@oakbrookgolfclub.com
SUMMARY:Men's Club 2-Man Champman
DESCRIPTION:Tee Times – 72 people
URL:https://oakbrookgolfclub.com/event/mens-club-2-man-champman/
CATEGORIES:Golf Tournament
END:VEVENT
BEGIN:VEVENT
DTSTART;TZID=UTC:20240714T101200
DTEND;TZID=UTC:20240714T101200
DTSTAMP:20260420T233739
CREATED:20240319T164958Z
LAST-MODIFIED:20240319T171212Z
UID:17448-1720951920-1720951920@oakbrookgolfclub.com
SUMMARY:Puget Sound Golf Club
DESCRIPTION:Tee Times – 32 people
URL:https://oakbrookgolfclub.com/event/puget-sound-golf-club/
CATEGORIES:Golf Tournament
END:VEVENT
BEGIN:VEVENT
DTSTART;TZID=UTC:20240719T130000
DTEND;TZID=UTC:20240719T130000
DTSTAMP:20260420T233739
CREATED:20240319T165034Z
LAST-MODIFIED:20240319T171201Z
UID:17450-1721394000-1721394000@oakbrookgolfclub.com
SUMMARY:Motion Church
DESCRIPTION:Shotgun – 100 people
URL:https://oakbrookgolfclub.com/event/motion-church/
CATEGORIES:Golf Tournament
END:VEVENT
BEGIN:VEVENT
DTSTART;TZID=UTC:20240722T110600
DTEND;TZID=UTC:20240722T110600
DTSTAMP:20260420T233739
CREATED:20240319T165122Z
LAST-MODIFIED:20240319T171151Z
UID:17452-1721646360-1721646360@oakbrookgolfclub.com
SUMMARY:Boeing X-Outs
DESCRIPTION:Tee Times – 44 people
URL:https://oakbrookgolfclub.com/event/boeing-x-outs-2/
CATEGORIES:Golf Tournament
END:VEVENT
BEGIN:VEVENT
DTSTART;TZID=UTC:20240801T130000
DTEND;TZID=UTC:20240801T130000
DTSTAMP:20260420T233739
CREATED:20240319T165150Z
LAST-MODIFIED:20240319T171140Z
UID:17454-1722517200-1722517200@oakbrookgolfclub.com
SUMMARY:PLU Football
DESCRIPTION:Tee Times – 144 people
URL:https://oakbrookgolfclub.com/event/plu-football/
CATEGORIES:Golf Tournament
END:VEVENT
BEGIN:VEVENT
DTSTART;TZID=UTC:20240803T083300
DTEND;TZID=UTC:20240803T083300
DTSTAMP:20260420T233739
CREATED:20240319T165310Z
LAST-MODIFIED:20240319T171130Z
UID:17458-1722673980-1722673980@oakbrookgolfclub.com
SUMMARY:Men's Club Senior Club Championship
DESCRIPTION:Tee Times – 72 people
URL:https://oakbrookgolfclub.com/event/mens-club-senior-club-championship/
CATEGORIES:Golf Tournament
END:VEVENT
BEGIN:VEVENT
DTSTART;TZID=UTC:20240804T083300
DTEND;TZID=UTC:20240804T083300
DTSTAMP:20260420T233739
CREATED:20240319T165339Z
LAST-MODIFIED:20240319T171119Z
UID:17460-1722760380-1722760380@oakbrookgolfclub.com
SUMMARY:Men's Club Senior Club Championship
DESCRIPTION:Tee Times – 72 people
URL:https://oakbrookgolfclub.com/event/mens-club-senior-club-championship-2/
CATEGORIES:Golf Tournament
END:VEVENT
BEGIN:VEVENT
DTSTART;TZID=UTC:20240809T130000
DTEND;TZID=UTC:20240809T130000
DTSTAMP:20260420T233739
CREATED:20240319T165223Z
LAST-MODIFIED:20240319T171109Z
UID:17456-1723208400-1723208400@oakbrookgolfclub.com
SUMMARY:Sound Christian
DESCRIPTION:Shotgun – 144 people
URL:https://oakbrookgolfclub.com/event/sound-christian/
CATEGORIES:Golf Tournament
END:VEVENT
BEGIN:VEVENT
DTSTART;TZID=UTC:20240824T083300
DTEND;TZID=UTC:20240824T083300
DTSTAMP:20260420T233739
CREATED:20240319T165440Z
LAST-MODIFIED:20240319T171059Z
UID:17462-1724488380-1724488380@oakbrookgolfclub.com
SUMMARY:Men's Club Club Championship
DESCRIPTION:Tee Times – 72 people
URL:https://oakbrookgolfclub.com/event/mens-club-club-championship/
CATEGORIES:Golf Tournament
END:VEVENT
BEGIN:VEVENT
DTSTART;TZID=UTC:20240825T083300
DTEND;TZID=UTC:20240825T083300
DTSTAMP:20260420T233739
CREATED:20240319T165509Z
LAST-MODIFIED:20240319T171045Z
UID:17464-1724574780-1724574780@oakbrookgolfclub.com
SUMMARY:Men's Club Club Championship
DESCRIPTION:Tee Times – 72 people
URL:https://oakbrookgolfclub.com/event/mens-club-club-championship-2/
CATEGORIES:Golf Tournament
END:VEVENT
BEGIN:VEVENT
DTSTART;TZID=UTC:20240907T103000
DTEND;TZID=UTC:20240907T103000
DTSTAMP:20260420T233739
CREATED:20240319T165650Z
LAST-MODIFIED:20240319T171033Z
UID:17466-1725705000-1725705000@oakbrookgolfclub.com
SUMMARY:Cascade Golfer
DESCRIPTION:Tee Times – 80 people
URL:https://oakbrookgolfclub.com/event/cascade-golfer/
CATEGORIES:Golf Tournament
END:VEVENT
BEGIN:VEVENT
DTSTART;TZID=UTC:20240914T070000
DTEND;TZID=UTC:20240914T070000
DTSTAMP:20260420T233739
CREATED:20240319T165729Z
LAST-MODIFIED:20240319T171020Z
UID:17468-1726297200-1726297200@oakbrookgolfclub.com
SUMMARY:The Oak Classic (@ The Classic GC)
DESCRIPTION:Tee Times – 144 people
URL:https://oakbrookgolfclub.com/event/the-oak-classic-the-classic-gc/
CATEGORIES:Golf Tournament
END:VEVENT
BEGIN:VEVENT
DTSTART;TZID=UTC:20240914T073000
DTEND;TZID=UTC:20240915T190000
DTSTAMP:20260420T233739
CREATED:20240313T185015Z
LAST-MODIFIED:20240313T185015Z
UID:17347-1726299000-1726426800@oakbrookgolfclub.com
SUMMARY:2024 Oak Classic
DESCRIPTION:DETAILS \nDay 1: September 14 (The Classic Golf Club)\nDay 2: September 15 (Oakbrook Golf Club)\n36 hole • Two day stroke play event\nTee times begin at 7:30am both days \nENTRY\n$200 entry for non-members\n$100 entry for members of either course\nEntry includes: 2 rounds of golf\, prize payout\, lunch after round 2. \nDIVISIONS\nMens Open Division: Any Age – Blue/White combo tees – Gross & Net\nMens Senior Division : Ages 50-69 – White tees – Gross & Net\nMens Super Senior Division: Ages 70+ – Green tees – Gross & Net\nLadies Division: Any age – Green tees – Gross & Net \nREGISTRATION RULES\nDeadline for Registration September 7\n100% refund if canceled by 5pm September 7th\n50% refund if canceled after 5pm on September 7th \nDownload the registration form below and turn it into the golf shop directly or send by mail\, along with your entry fee. If you have any questions\, please contact the golf shop at 253.584.8770. 
URL:https://oakbrookgolfclub.com/event/2024-oak-classic/
CATEGORIES:Golf Tournament
ATTACH;FMTTYPE=image/png:https://oakbrookgolfclub.com/wp-content/uploads/2024/03/Oakbrook-Oak-Classic-2024-fb-post-1.webp
END:VEVENT
BEGIN:VEVENT
DTSTART;TZID=UTC:20240915T070000
DTEND;TZID=UTC:20240915T070000
DTSTAMP:20260420T233739
CREATED:20240319T165803Z
LAST-MODIFIED:20240319T171004Z
UID:17470-1726383600-1726383600@oakbrookgolfclub.com
SUMMARY:The Oak Classic (@ The Classic GC)
DESCRIPTION:Tee Times – 145 people
URL:https://oakbrookgolfclub.com/event/the-oak-classic-the-classic-gc-2/
CATEGORIES:Golf Tournament
END:VEVENT
BEGIN:VEVENT
DTSTART;TZID=UTC:20240921T083300
DTEND;TZID=UTC:20240921T083300
DTSTAMP:20260420T233739
CREATED:20240319T165843Z
LAST-MODIFIED:20240319T170949Z
UID:17472-1726907580-1726907580@oakbrookgolfclub.com
SUMMARY:Men's Club 2-Man Scramble
DESCRIPTION:Tee Times – 72 people
URL:https://oakbrookgolfclub.com/event/mens-club-2-man-scramble/
CATEGORIES:Golf Tournament
END:VEVENT
END:VCALENDAR