BEGIN:VCALENDAR
VERSION:2.0
PRODID:-//Oakbrook Golf Club - ECPv6.15.20//NONSGML v1.0//EN
CALSCALE:GREGORIAN
METHOD:PUBLISH
X-WR-CALNAME:Oakbrook Golf Club
X-ORIGINAL-URL:https://oakbrookgolfclub.com
X-WR-CALDESC:Events for Oakbrook Golf Club
REFRESH-INTERVAL;VALUE=DURATION:PT1H
X-Robots-Tag:noindex
X-PUBLISHED-TTL:PT1H
BEGIN:VTIMEZONE
TZID:UTC
BEGIN:STANDARD
TZOFFSETFROM:+0000
TZOFFSETTO:+0000
TZNAME:UTC
DTSTART:20220101T000000
END:STANDARD
END:VTIMEZONE
BEGIN:VEVENT
DTSTART;TZID=UTC:20240526T110600
DTEND;TZID=UTC:20240526T110600
DTSTAMP:20260420T192543
CREATED:20240319T164432Z
LAST-MODIFIED:20240319T172419Z
UID:17432-1716721560-1716721560@oakbrookgolfclub.com
SUMMARY:Northwest Golf Group
DESCRIPTION:Tee Times – 28 people
URL:https://oakbrookgolfclub.com/event/northwest-golf-group/
CATEGORIES:Golf Tournament
END:VEVENT
BEGIN:VEVENT
DTSTART;TZID=UTC:20240519T110600
DTEND;TZID=UTC:20240519T110600
DTSTAMP:20260420T192543
CREATED:20240319T164345Z
LAST-MODIFIED:20240319T172430Z
UID:17430-1716116760-1716116760@oakbrookgolfclub.com
SUMMARY:BLD Golf Tournament
DESCRIPTION:Tee Times – 28 people
URL:https://oakbrookgolfclub.com/event/bld-golf-tournament/
CATEGORIES:Golf Tournament
END:VEVENT
BEGIN:VEVENT
DTSTART;TZID=UTC:20240519T083300
DTEND;TZID=UTC:20240519T083300
DTSTAMP:20260420T192543
CREATED:20240319T164255Z
LAST-MODIFIED:20240319T172442Z
UID:17428-1716107580-1716107580@oakbrookgolfclub.com
SUMMARY:Men's Club Best Ball Invitational
DESCRIPTION:Tee Times – 72 people
URL:https://oakbrookgolfclub.com/event/mens-club-best-ball-invitational-2/
CATEGORIES:Golf Tournament
END:VEVENT
BEGIN:VEVENT
DTSTART;TZID=UTC:20240518T083300
DTEND;TZID=UTC:20240518T083300
DTSTAMP:20260420T192543
CREATED:20240319T164216Z
LAST-MODIFIED:20240319T172454Z
UID:17426-1716021180-1716021180@oakbrookgolfclub.com
SUMMARY:Men's Club Best Ball Invitational
DESCRIPTION:Tee Times – 72 people
URL:https://oakbrookgolfclub.com/event/mens-club-best-ball-invitational/
CATEGORIES:Golf Tournament
END:VEVENT
BEGIN:VEVENT
DTSTART;TZID=UTC:20240516T070000
DTEND;TZID=UTC:20240516T070000
DTSTAMP:20260420T192543
CREATED:20240319T164124Z
LAST-MODIFIED:20240319T172507Z
UID:17424-1715842800-1715842800@oakbrookgolfclub.com
SUMMARY:USGA US Senior Open Qualifier
DESCRIPTION:Tee Times – 80 people
URL:https://oakbrookgolfclub.com/event/usga-us-senior-open-qualifier/
CATEGORIES:Golf Tournament
END:VEVENT
BEGIN:VEVENT
DTSTART;TZID=UTC:20240511T070000
DTEND;TZID=UTC:20240511T070000
DTSTAMP:20260420T192543
CREATED:20240319T164038Z
LAST-MODIFIED:20240319T172519Z
UID:17422-1715410800-1715410800@oakbrookgolfclub.com
SUMMARY:Northwest Golf Guys
DESCRIPTION:Tee Times – 140 people
URL:https://oakbrookgolfclub.com/event/northwest-golf-guys/
CATEGORIES:Golf Tournament
END:VEVENT
BEGIN:VEVENT
DTSTART;TZID=UTC:20240506T090000
DTEND;TZID=UTC:20240506T090000
DTSTAMP:20260420T192543
CREATED:20240319T164008Z
LAST-MODIFIED:20240319T172531Z
UID:17420-1714986000-1714986000@oakbrookgolfclub.com
SUMMARY:TWGA Ladies
DESCRIPTION:Tee Times – 90 people
URL:https://oakbrookgolfclub.com/event/twga-ladies/
CATEGORIES:Golf Tournament
END:VEVENT
BEGIN:VEVENT
DTSTART;TZID=UTC:20240506T080000
DTEND;TZID=UTC:20240513T170000
DTSTAMP:20260420T192543
CREATED:20240506T165736Z
LAST-MODIFIED:20240506T165736Z
UID:17674-1714982400-1715619600@oakbrookgolfclub.com
SUMMARY:Mother's Day Sale
DESCRIPTION:Mother’s Day Sale\nMonday\, May 6 – Monday\, May 13\n\n \n\n25% Off\nWomen’s Apparel\nWomen’s Gloves\nAll Bags\n\n \n\nStop by any time this week at the Oakbrook Golf Club and pick up that perfect gift for MOM!
URL:https://oakbrookgolfclub.com/event/mothers-day-sale/
END:VEVENT
BEGIN:VEVENT
DTSTART;TZID=UTC:20240505T070000
DTEND;TZID=UTC:20240505T070000
DTSTAMP:20260420T192543
CREATED:20240319T163934Z
LAST-MODIFIED:20240319T172543Z
UID:17418-1714892400-1714892400@oakbrookgolfclub.com
SUMMARY:WJGA Junior World Qualifier
DESCRIPTION:Tee Times – 240 people
URL:https://oakbrookgolfclub.com/event/wjga-junior-world-qualifier/
CATEGORIES:Golf Tournament
END:VEVENT
BEGIN:VEVENT
DTSTART;TZID=UTC:20240429T073000
DTEND;TZID=UTC:20240429T073000
DTSTAMP:20260420T192543
CREATED:20240319T163844Z
LAST-MODIFIED:20240319T172557Z
UID:17416-1714375800-1714375800@oakbrookgolfclub.com
SUMMARY:NWAC Golf Tournament
DESCRIPTION:Shotgun – 90 people
URL:https://oakbrookgolfclub.com/event/nwac-golf-tournament-3/
CATEGORIES:Golf Tournament
END:VEVENT
BEGIN:VEVENT
DTSTART;TZID=UTC:20240428T110600
DTEND;TZID=UTC:20240428T110600
DTSTAMP:20260420T192543
CREATED:20240319T162449Z
LAST-MODIFIED:20240319T172611Z
UID:17414-1714302360-1714302360@oakbrookgolfclub.com
SUMMARY:NWAC Golf Tournament
DESCRIPTION:Tee Times – 90 people
URL:https://oakbrookgolfclub.com/event/nwac-golf-tournament-2/
CATEGORIES:Golf Tournament
END:VEVENT
BEGIN:VEVENT
DTSTART;TZID=UTC:20240427T120000
DTEND;TZID=UTC:20240427T120000
DTSTAMP:20260420T192543
CREATED:20240319T162315Z
LAST-MODIFIED:20240319T172623Z
UID:17410-1714219200-1714219200@oakbrookgolfclub.com
SUMMARY:NWAC Tournament Practice Rounds
DESCRIPTION:Tee Times – 90 people
URL:https://oakbrookgolfclub.com/event/nwac-golf-tournament/
CATEGORIES:Golf Tournament
END:VEVENT
BEGIN:VEVENT
DTSTART;TZID=UTC:20240423T100000
DTEND;TZID=UTC:20240423T140000
DTSTAMP:20260420T192543
CREATED:20240319T204950Z
LAST-MODIFIED:20240319T205009Z
UID:17491-1713866400-1713880800@oakbrookgolfclub.com
SUMMARY:Cobra Demo Day
DESCRIPTION:Cobra Demo Day \nApril 23\, 2024 \n10am – 2pm
URL:https://oakbrookgolfclub.com/event/cobra-demo-day/
CATEGORIES:Demo Day
END:VEVENT
BEGIN:VEVENT
DTSTART;TZID=UTC:20240421T103000
DTEND;TZID=UTC:20240421T103000
DTSTAMP:20260420T192543
CREATED:20240319T162239Z
LAST-MODIFIED:20240319T172636Z
UID:17408-1713695400-1713695400@oakbrookgolfclub.com
SUMMARY:AS Golf Club
DESCRIPTION:Tee Times – 24 people
URL:https://oakbrookgolfclub.com/event/as-golf-club/
CATEGORIES:Golf Tournament
END:VEVENT
BEGIN:VEVENT
DTSTART;TZID=UTC:20240420T083300
DTEND;TZID=UTC:20240420T083300
DTSTAMP:20260420T192543
CREATED:20240319T160106Z
LAST-MODIFIED:20240319T172648Z
UID:17406-1713601980-1713601980@oakbrookgolfclub.com
SUMMARY:Men's Club 6-6-6
DESCRIPTION:Tee Times – 72 Players
URL:https://oakbrookgolfclub.com/event/mens-club-6-6-6/
CATEGORIES:Golf Tournament
END:VEVENT
BEGIN:VEVENT
DTSTART;TZID=UTC:20240418T100000
DTEND;TZID=UTC:20240418T160000
DTSTAMP:20260420T192543
CREATED:20240319T205106Z
LAST-MODIFIED:20240319T205106Z
UID:17495-1713434400-1713456000@oakbrookgolfclub.com
SUMMARY:TaylorMade Demo Day
DESCRIPTION:TaylorMade Demo Day \nApril 18\, 2024 \n10am – 4pm
URL:https://oakbrookgolfclub.com/event/taylormade-demo-day/
CATEGORIES:Demo Day
END:VEVENT
BEGIN:VEVENT
DTSTART;TZID=UTC:20240418T070000
DTEND;TZID=UTC:20240418T070000
DTSTAMP:20260420T192543
CREATED:20240319T170421Z
LAST-MODIFIED:20240319T170659Z
UID:17478-1713423600-1713423600@oakbrookgolfclub.com
SUMMARY:PSLOW
DESCRIPTION:Tee Times – 144 people
URL:https://oakbrookgolfclub.com/event/pslow-2/
CATEGORIES:Golf Tournament
END:VEVENT
BEGIN:VEVENT
DTSTART;TZID=UTC:20240413T100000
DTEND;TZID=UTC:20240413T160000
DTSTAMP:20260420T192543
CREATED:20240319T203809Z
LAST-MODIFIED:20240321T164336Z
UID:17487-1713002400-1713024000@oakbrookgolfclub.com
SUMMARY:PXG Demo Day
DESCRIPTION:PXG Demo Day\nApril 13\, 2024 • 10am – 4pm\nBOOK TODAY!
URL:https://oakbrookgolfclub.com/event/pxg-demo-day/
CATEGORIES:Demo Day
END:VEVENT
BEGIN:VEVENT
DTSTART;TZID=UTC:20240405T090000
DTEND;TZID=UTC:20240405T090000
DTSTAMP:20260420T192543
CREATED:20240319T155722Z
LAST-MODIFIED:20240319T172709Z
UID:17403-1712307600-1712307600@oakbrookgolfclub.com
SUMMARY:WSGA Winter Series
DESCRIPTION:Shotgun – 114 players
URL:https://oakbrookgolfclub.com/event/wsga-winter-series/
END:VEVENT
BEGIN:VEVENT
DTSTART;TZID=UTC:20240331T100000
DTEND;TZID=UTC:20240331T143000
DTSTAMP:20260420T192543
CREATED:20240327T201101Z
LAST-MODIFIED:20240327T201101Z
UID:17550-1711879200-1711895400@oakbrookgolfclub.com
SUMMARY:Easter Brunch
DESCRIPTION:Easter Brunch Buffet at The Adriatic\nSunday\, March 31 • 10:00am – 2:30pm \nCost: \nAdults: $60 | Seniors (65+): $55\nKids (Ages 11-15): $40\nKids (Ages 4-10): $25\nChildren (Under 3): Free\n*Please note: 20% service fee will be added to all tabs.  \nBottomless mimosa and bloody mary bar available for an additional $20 per person! \nMs. Kelly from Tangerine Tales is back again\, doing amazing face painting for the kids! Check out her work HERE! \nWhile reservations are not required\, they are highly encouraged as we only have a limited amount of room for walk-ins. Please call 253.584.8888 to reserve your table today!
URL:https://oakbrookgolfclub.com/event/easter-brunch/
CATEGORIES:Food & Beverage
END:VEVENT
BEGIN:VEVENT
DTSTART;VALUE=DATE:20240318
DTEND;VALUE=DATE:20240321
DTSTAMP:20260420T192543
CREATED:20240312T201716Z
LAST-MODIFIED:20240312T201716Z
UID:17327-1710720000-1710979199@oakbrookgolfclub.com
SUMMARY:Course Update: Aerification
DESCRIPTION:Course Update: Monday\, March 18 – Wednesday\, March 20 we will be Aerifying the golf course.
URL:https://oakbrookgolfclub.com/event/course-update-aerification/
END:VEVENT
BEGIN:VEVENT
DTSTART;TZID=UTC:20240306T180000
DTEND;TZID=UTC:20240306T210000
DTSTAMP:20260420T192543
CREATED:20240228T203436Z
LAST-MODIFIED:20240228T203436Z
UID:17316-1709748000-1709758800@oakbrookgolfclub.com
SUMMARY:Chef Bill and Rombauer Winery Wine Dinner
DESCRIPTION:Chef Bill and Rombauer Winery are teaming up to present a special wine dinner\nat The Adriatic at Oakbrook! \nWednesday\, March 6\nDinner Begins at 6pm \nCost: $200 per person \nDue to limited space\, reservations are required!\nPlease call 253.584.8888 to reserve your spot.
URL:https://oakbrookgolfclub.com/event/chef-bill-and-rombauer-winery-wine-dinner/
LOCATION:The Adriatic at Oakbrook
CATEGORIES:Food & Beverage
ATTACH;FMTTYPE=image/png:https://oakbrookgolfclub.com/wp-content/uploads/2024/02/Rombauer-wine-dinner-3.6.24-2-1.webp
END:VEVENT
BEGIN:VEVENT
DTSTART;TZID=UTC:20240303T100000
DTEND;TZID=UTC:20240303T160000
DTSTAMP:20260420T192543
CREATED:20240205T142551Z
LAST-MODIFIED:20240214T194907Z
UID:17259-1709460000-1709481600@oakbrookgolfclub.com
SUMMARY:XXIO Fitting Day
DESCRIPTION:Sunday\, March 3rd \n10am • Driving Range \nSign-up HERE
URL:https://oakbrookgolfclub.com/event/xxio-fitting-day-5/
ATTACH;FMTTYPE=image/png:https://oakbrookgolfclub.com/wp-content/uploads/2024/02/Oakbrook-XXIO-Demo-Day-33-blog.webp
END:VEVENT
BEGIN:VEVENT
DTSTART;VALUE=DATE:20240224
DTEND;VALUE=DATE:20240225
DTSTAMP:20260420T192543
CREATED:20240205T175702Z
LAST-MODIFIED:20240214T193709Z
UID:17269-1708732800-1708819199@oakbrookgolfclub.com
SUMMARY:Gold\, Green\, White Tournament
DESCRIPTION:2024 Men’s Club Gold\, Green\, White Tournament \nSaturday\, February 24 \nTee Times Begin: 9:00am \nIndividual Stroke Play \nFor More Information or sign up\, contact us today! \nSign-up deadline: Sunday\, February 18
URL:https://oakbrookgolfclub.com/event/gold-green-white-tournament/
ATTACH;FMTTYPE=image/png:https://oakbrookgolfclub.com/wp-content/uploads/2024/02/Oakbrook-Gold-Green-White-Tournament-22424-blog-1.webp
END:VEVENT
BEGIN:VEVENT
DTSTART;TZID=UTC:20240205T080000
DTEND;TZID=UTC:20240205T170000
DTSTAMP:20260420T192543
CREATED:20240205T145806Z
LAST-MODIFIED:20240205T145806Z
UID:17262-1707120000-1707152400@oakbrookgolfclub.com
SUMMARY:Valentine's Day at The Adriatic
DESCRIPTION:The Adriatic at Oakbrook is the perfect place to bring your Valentine! Make your reservations today and impress your loved one by already having the night planned out.  \nCall today to reserve your table:\n253.584.8888 \nOr make your own reservation on Open Table:\nBook Today!
URL:https://oakbrookgolfclub.com/event/valentines-day-at-the-adriatic/
ATTACH;FMTTYPE=image/png:https://oakbrookgolfclub.com/wp-content/uploads/2024/02/Oakbrook-Valentines-Day-The-Adriatic-214-1.webp
END:VEVENT
BEGIN:VEVENT
DTSTART;VALUE=DATE:20240101
DTEND;VALUE=DATE:20240102
DTSTAMP:20260420T192543
CREATED:20231221T145819Z
LAST-MODIFIED:20231221T145819Z
UID:17235-1704067200-1704153599@oakbrookgolfclub.com
SUMMARY:New Year's Day at The Adriatic - Closed
DESCRIPTION:
URL:https://oakbrookgolfclub.com/event/new-years-day-at-the-adriatic-closed/
END:VEVENT
BEGIN:VEVENT
DTSTART;TZID=UTC:20231231T130000
DTEND;TZID=UTC:20231231T170000
DTSTAMP:20260420T192543
CREATED:20231115T215008Z
LAST-MODIFIED:20231116T215348Z
UID:17202-1704027600-1704042000@oakbrookgolfclub.com
SUMMARY:New Year's Eve - Course Closes at 1pm
DESCRIPTION:
URL:https://oakbrookgolfclub.com/event/thanksgiving-eve-course-closes-at-1pm/
END:VEVENT
BEGIN:VEVENT
DTSTART;TZID=UTC:20231231T110000
DTEND;TZID=UTC:20231231T230000
DTSTAMP:20260420T192543
CREATED:20231221T145705Z
LAST-MODIFIED:20231221T145705Z
UID:17231-1704020400-1704063600@oakbrookgolfclub.com
SUMMARY:New Year's Eve Hours at The Adriatic
DESCRIPTION:Hours: 11am – 11pm
URL:https://oakbrookgolfclub.com/event/new-years-eve-hours-at-the-adriatic/
END:VEVENT
BEGIN:VEVENT
DTSTART;VALUE=DATE:20231225
DTEND;VALUE=DATE:20231226
DTSTAMP:20260420T192543
CREATED:20231221T145753Z
LAST-MODIFIED:20231221T145753Z
UID:17233-1703462400-1703548799@oakbrookgolfclub.com
SUMMARY:Christmas Day at The Adriatic - Closed
DESCRIPTION:
URL:https://oakbrookgolfclub.com/event/christmas-day-at-the-adriatic-closed/
END:VEVENT
BEGIN:VEVENT
DTSTART;VALUE=DATE:20231225
DTEND;VALUE=DATE:20231226
DTSTAMP:20260420T192543
CREATED:20231115T214853Z
LAST-MODIFIED:20231115T214853Z
UID:17198-1703462400-1703548799@oakbrookgolfclub.com
SUMMARY:Merry Christmas - Course Closed
DESCRIPTION:
URL:https://oakbrookgolfclub.com/event/merry-christmas-course-closed/
END:VEVENT
END:VCALENDAR