BEGIN:VCALENDAR
VERSION:2.0
PRODID:-//Oakbrook Golf Club - ECPv6.15.20//NONSGML v1.0//EN
CALSCALE:GREGORIAN
METHOD:PUBLISH
X-WR-CALNAME:Oakbrook Golf Club
X-ORIGINAL-URL:https://oakbrookgolfclub.com
X-WR-CALDESC:Events for Oakbrook Golf Club
REFRESH-INTERVAL;VALUE=DURATION:PT1H
X-Robots-Tag:noindex
X-PUBLISHED-TTL:PT1H
BEGIN:VTIMEZONE
TZID:UTC
BEGIN:STANDARD
TZOFFSETFROM:+0000
TZOFFSETTO:+0000
TZNAME:UTC
DTSTART:20230101T000000
END:STANDARD
END:VTIMEZONE
BEGIN:VEVENT
DTSTART;TZID=UTC:20240610T100300
DTEND;TZID=UTC:20240610T100300
DTSTAMP:20260420T112348
CREATED:20240319T164512Z
LAST-MODIFIED:20240319T172405Z
UID:17434-1718013780-1718013780@oakbrookgolfclub.com
SUMMARY:Boeing X-Outs
DESCRIPTION:Tee Times – 44 people
URL:https://oakbrookgolfclub.com/event/boeing-x-outs/
CATEGORIES:Golf Tournament
END:VEVENT
END:VCALENDAR